BEGIN:VCALENDAR
VERSION:2.0
PRODID:-//WFSA Freestyle - ECPv6.15.17//NONSGML v1.0//EN
CALSCALE:GREGORIAN
METHOD:PUBLISH
X-ORIGINAL-URL:https://wfsafreestyle.org
X-WR-CALDESC:Events for WFSA Freestyle
REFRESH-INTERVAL;VALUE=DURATION:PT1H
X-Robots-Tag:noindex
X-PUBLISHED-TTL:PT1H
BEGIN:VTIMEZONE
TZID:America/Argentina/Buenos_Aires
BEGIN:STANDARD
TZOFFSETFROM:-0300
TZOFFSETTO:-0300
TZNAME:-03
DTSTART:20240101T000000
END:STANDARD
END:VTIMEZONE
BEGIN:VEVENT
DTSTART;TZID=America/Argentina/Buenos_Aires:20251115T090000
DTEND;TZID=America/Argentina/Buenos_Aires:20251116T170000
DTSTAMP:20260421T102241
CREATED:20251105T164319Z
LAST-MODIFIED:20251105T164319Z
UID:1222-1763197200-1763312400@wfsafreestyle.org
SUMMARY:Brazilian Freestyle Championship - Rio de Janeiro Stage CBSK 2025
DESCRIPTION:🇧🇷 2nd Stage – 2025 Brazilian Freestyle Skateboarding Circuit\nThe Brazilian Freestyle Skateboarding scene is back in Rio!For the third time\, the STU (Skate Total Urbe) event will welcome freestyle skateboarders from all over the country on November 15–16\, 2025\, at Praça DuÓ\, Barra da Tijuca\, Rio de Janeiro (RJ)\, Brazil. \nThis competition is part of the official 2025 Brazilian Freestyle Skateboarding Circuit\, contributing to the national ranking.Participation is exclusive to skaters affiliated with the Brazilian Skateboarding Confederation (CBSk). \n📝 RegistrationAll skaters must be properly registered and approved through the official CBSk platform:👉 www.filiados.cbsk.com.br \nIf you already competed in: \n\nthe 2023 or 2024 Brazilian Freestyle Skateboarding Championship\, or\n\nthe “Virada Esportiva” stage in São Paulo (September 20–21\, 2025)\,\n\n\nyou’re already in the system and do not need to register again. \n\n🏆 Divisions\n\nAMATEUR\n\nPRO\n\nMASTERS\n\nMASTERS PRO\n\nWOMEN’S\n\n\n\nGet ready to ride\, connect\, and represent your city — the Brazilian Freestyle Circuit is rolling strong into 2025! 🇧🇷🔥
URL:https://wfsafreestyle.org/event/brazilian-freestyle-championship-rio-de-janeiro-stage-cbsk-2025/
LOCATION:Praça São Perpétuo – Barra da Tijuca\, Rio de Janeiro - RJ\, 22620-280\, Brazilia\, Rio de Janeiro\, Brazil
CATEGORIES:Competition
ATTACH;FMTTYPE=image/jpeg:https://wfsafreestyle.org/wp-content/uploads/2025/10/IMG_1705.jpg
END:VEVENT
END:VCALENDAR