BEGIN:VCALENDAR
VERSION:2.0
PRODID:-//WFSA Freestyle - ECPv6.15.17//NONSGML v1.0//EN
CALSCALE:GREGORIAN
METHOD:PUBLISH
X-ORIGINAL-URL:https://wfsafreestyle.org
X-WR-CALDESC:Events for WFSA Freestyle
REFRESH-INTERVAL;VALUE=DURATION:PT1H
X-Robots-Tag:noindex
X-PUBLISHED-TTL:PT1H
BEGIN:VTIMEZONE
TZID:Europe/London
BEGIN:DAYLIGHT
TZOFFSETFROM:+0000
TZOFFSETTO:+0100
TZNAME:BST
DTSTART:20240331T010000
END:DAYLIGHT
BEGIN:STANDARD
TZOFFSETFROM:+0100
TZOFFSETTO:+0000
TZNAME:GMT
DTSTART:20241027T010000
END:STANDARD
BEGIN:DAYLIGHT
TZOFFSETFROM:+0000
TZOFFSETTO:+0100
TZNAME:BST
DTSTART:20250330T010000
END:DAYLIGHT
BEGIN:STANDARD
TZOFFSETFROM:+0100
TZOFFSETTO:+0000
TZNAME:GMT
DTSTART:20251026T010000
END:STANDARD
BEGIN:DAYLIGHT
TZOFFSETFROM:+0000
TZOFFSETTO:+0100
TZNAME:BST
DTSTART:20260329T010000
END:DAYLIGHT
BEGIN:STANDARD
TZOFFSETFROM:+0100
TZOFFSETTO:+0000
TZNAME:GMT
DTSTART:20261025T010000
END:STANDARD
END:VTIMEZONE
BEGIN:VTIMEZONE
TZID:Europe/Bucharest
BEGIN:DAYLIGHT
TZOFFSETFROM:+0200
TZOFFSETTO:+0300
TZNAME:EEST
DTSTART:20240331T010000
END:DAYLIGHT
BEGIN:STANDARD
TZOFFSETFROM:+0300
TZOFFSETTO:+0200
TZNAME:EET
DTSTART:20241027T010000
END:STANDARD
BEGIN:DAYLIGHT
TZOFFSETFROM:+0200
TZOFFSETTO:+0300
TZNAME:EEST
DTSTART:20250330T010000
END:DAYLIGHT
BEGIN:STANDARD
TZOFFSETFROM:+0300
TZOFFSETTO:+0200
TZNAME:EET
DTSTART:20251026T010000
END:STANDARD
BEGIN:DAYLIGHT
TZOFFSETFROM:+0200
TZOFFSETTO:+0300
TZNAME:EEST
DTSTART:20260329T010000
END:DAYLIGHT
BEGIN:STANDARD
TZOFFSETFROM:+0300
TZOFFSETTO:+0200
TZNAME:EET
DTSTART:20261025T010000
END:STANDARD
END:VTIMEZONE
BEGIN:VEVENT
DTSTART;TZID=Europe/London:20251003T080000
DTEND;TZID=Europe/London:20251005T180000
DTSTAMP:20260421T102007
CREATED:20251007T002616Z
LAST-MODIFIED:20251007T002616Z
UID:1206-1759478400-1759687200@wfsafreestyle.org
SUMMARY:BIG RIO Brasil 2025
DESCRIPTION:BIG RIO is back in full force!Mark your calendars for October 3–5\, 2025\, as BIG RIO makes its long-awaited return inside the Planet Tattoo Festival in Brasil . After its unexpected cancellation this summer\, the event is coming back stronger than ever and ready to surprise! \nThis is the 8th edition of BIG RIO\, the biggest independent freestyle contest of Brasil\, it had international champions like Günter Mokulys (2015 and 2017) \, Isamu Yamamoto (2016) \, Felix Jonsson (2019) \nThe full program is listed below\, and we can’t wait to see a big crowd joining us for this already iconic skate event in Brazil. \nThe event will take place inside Arena Carioca 1 at the Olympic Center in Barra da Tijuca\, Rio de Janeiro.Registration is free. \nCategories: \n\nMaster\nAmateur\nProfessional\nPro Master\n\nSchedule \n03/10 Friday \n\n2:00 PM – Registration\n2:30–6:00 PM – Free Practice\n\n04/10 Saturday \n\n2:00 PM – Registration\n2:30 PM – Free Practice\n4:00–6:00 PM – Athlete Demos\n\n05/10 Sunday \n\n1:00 PM – Registration\n2:00 PM – Free Practice\n3:00 PM – Warm-up (Amateur / Master / Pro Master / Professional)\n4:00 PM – Competitions\n5:30 PM – Awards Ceremony
URL:https://wfsafreestyle.org/event/big-rio-brasil-2025/
LOCATION:Arena Carioca 1\, Av. Embaixador Abelardo Bueno - Barra Olímpica\, Rio de Janeiro - RJ\, 22775-039\, Brazilia\, Rio de Janeiro\, Brazil
CATEGORIES:Competition
ATTACH;FMTTYPE=image/jpeg:https://wfsafreestyle.org/wp-content/uploads/2025/10/WhatsApp-Image-2025-10-03-at-17.08.10.jpeg
END:VEVENT
BEGIN:VEVENT
DTSTART;TZID=Europe/Bucharest:20251011T090000
DTEND;TZID=Europe/Bucharest:20251011T190000
DTSTAMP:20260421T102007
CREATED:20251007T002112Z
LAST-MODIFIED:20251007T002112Z
UID:1132-1760173200-1760209200@wfsafreestyle.org
SUMMARY:Bucharest Skate Open 2025
DESCRIPTION:I’m excited to invite you to the first competition of 2025 in Romania! \nThe event will take place at Spot Skatepark\, a DIY indoor skatepark in Bucharest\, which means it’s happening no matter the weather. \nTraditionally\, this contest has been focused on street\, but in the last two years the organizer has welcomed freestyle as well. That means we’ll be sharing the day with the street contest\, so time management will be important\, but since it’s a relatively small event\, everything should run smoothly. \nWe’ll have just two categories: PRO and AM. Each rider will get a 1.5-minute run\, as we need to fit both freestyle and street into the same day. \nThe entry fee is €10\, payable on site. The floor is smooth concrete \, slightly slippery\, but it rides fine. The park itself is a bit narrow\, but still long enough to pick up speed for a solid coco wheelie. \nI’m really looking forward to seeing many of you there and sharing a great time together! \n Marius Constantin
URL:https://wfsafreestyle.org/event/bucharest-skate-open-2025/
LOCATION:Spot Skatepark ( indoor )\, Soseaua Berceni\, nr. 8\, Bucharest\, 041914\, Romania
CATEGORIES:Competition
ATTACH;FMTTYPE=image/jpeg:https://wfsafreestyle.org/wp-content/uploads/2025/10/WhatsApp-Image-2025-10-01-at-22.10.25.jpeg
END:VEVENT
END:VCALENDAR