BEGIN:VCALENDAR
VERSION:2.0
PRODID:-//WFSA Freestyle - ECPv6.15.17//NONSGML v1.0//EN
CALSCALE:GREGORIAN
METHOD:PUBLISH
X-ORIGINAL-URL:https://wfsafreestyle.org
X-WR-CALDESC:Events for WFSA Freestyle
REFRESH-INTERVAL;VALUE=DURATION:PT1H
X-Robots-Tag:noindex
X-PUBLISHED-TTL:PT1H
BEGIN:VTIMEZONE
TZID:Europe/Berlin
BEGIN:DAYLIGHT
TZOFFSETFROM:+0100
TZOFFSETTO:+0200
TZNAME:CEST
DTSTART:20240331T010000
END:DAYLIGHT
BEGIN:STANDARD
TZOFFSETFROM:+0200
TZOFFSETTO:+0100
TZNAME:CET
DTSTART:20241027T010000
END:STANDARD
BEGIN:DAYLIGHT
TZOFFSETFROM:+0100
TZOFFSETTO:+0200
TZNAME:CEST
DTSTART:20250330T010000
END:DAYLIGHT
BEGIN:STANDARD
TZOFFSETFROM:+0200
TZOFFSETTO:+0100
TZNAME:CET
DTSTART:20251026T010000
END:STANDARD
BEGIN:DAYLIGHT
TZOFFSETFROM:+0100
TZOFFSETTO:+0200
TZNAME:CEST
DTSTART:20260329T010000
END:DAYLIGHT
BEGIN:STANDARD
TZOFFSETFROM:+0200
TZOFFSETTO:+0100
TZNAME:CET
DTSTART:20261025T010000
END:STANDARD
END:VTIMEZONE
BEGIN:VTIMEZONE
TZID:Europe/London
BEGIN:DAYLIGHT
TZOFFSETFROM:+0000
TZOFFSETTO:+0100
TZNAME:BST
DTSTART:20240331T010000
END:DAYLIGHT
BEGIN:STANDARD
TZOFFSETFROM:+0100
TZOFFSETTO:+0000
TZNAME:GMT
DTSTART:20241027T010000
END:STANDARD
BEGIN:DAYLIGHT
TZOFFSETFROM:+0000
TZOFFSETTO:+0100
TZNAME:BST
DTSTART:20250330T010000
END:DAYLIGHT
BEGIN:STANDARD
TZOFFSETFROM:+0100
TZOFFSETTO:+0000
TZNAME:GMT
DTSTART:20251026T010000
END:STANDARD
BEGIN:DAYLIGHT
TZOFFSETFROM:+0000
TZOFFSETTO:+0100
TZNAME:BST
DTSTART:20260329T010000
END:DAYLIGHT
BEGIN:STANDARD
TZOFFSETFROM:+0100
TZOFFSETTO:+0000
TZNAME:GMT
DTSTART:20261025T010000
END:STANDARD
END:VTIMEZONE
BEGIN:VTIMEZONE
TZID:Asia/Tokyo
BEGIN:STANDARD
TZOFFSETFROM:+0900
TZOFFSETTO:+0900
TZNAME:JST
DTSTART:20240101T000000
END:STANDARD
END:VTIMEZONE
BEGIN:VEVENT
DTSTART;TZID=Europe/Berlin:20250713T120000
DTEND;TZID=Europe/Berlin:20250713T190000
DTSTAMP:20260421T154129
CREATED:20250107T174408Z
LAST-MODIFIED:20250525T173638Z
UID:695-1752408000-1752433200@wfsafreestyle.org
SUMMARY:Paderborn BBQ Contest 2025
DESCRIPTION:After the fantastic celebration of its 25th anniversary in Paderborn last year\, an event that set records for both competitors and attendees\, the 26th annual freestyle event will return in 2025! Join us on July 12-13 at Goldgrund Skatepark for another thrilling weekend\, featuring Saturday’s street competition and Sunday’s freestyle contest. \nThis event is one of the most cherished freestyle competitions in the world and holds the title of the longest-running freestyle competition. While we currently have the date and location\, the full schedule is still to be announced. However\, based on previous years\, you can expect a delightful free breakfast for all competitors at around 9:00 AM on Sunday\, with warm-ups starting at noon and finishing with the prize ceremony around 20:00. \nCategories include Pro\, Amateurs\, Girls\, and Masters. The entry fee is typically around €25\, which includes a t-shirt\, an apple\, and a bottle of water\, plus the free camping with free showers. \nThough the skatepark surface may not be the largest or the smoothest\, it’s the vibrant atmosphere and the community spirit that draw people back year after year. We can’t wait to see you there!
URL:https://wfsafreestyle.org/event/paderborn-bbq-contest-2025/
LOCATION:Skatepark im Goldgrund\, Bökendorfer Weg 40\, Paderborn\, 33100\, Germany
CATEGORIES:Competition
ATTACH;FMTTYPE=image/jpeg:https://wfsafreestyle.org/wp-content/uploads/2025/01/499259033_18283278766271748_1408508766315111229_n.jpg
END:VEVENT
BEGIN:VEVENT
DTSTART;TZID=Europe/London:20250726T090000
DTEND;TZID=Europe/London:20250726T170000
DTSTAMP:20260421T154129
CREATED:20250329T142348Z
LAST-MODIFIED:20250328T001023Z
UID:887-1753520400-1753549200@wfsafreestyle.org
SUMMARY:L&A EXPO ‘25
DESCRIPTION:The city of Ontario\, Canada\, is gearing up to host its first freestyle competition in decades\, offering exciting prizes\, both in cash and equipment. \nThis highly anticipated event will take place on July 26 from 9:00 AM to 5:00 PM at Best & Bash – Goodyear Arena (Strathcona Paper Centre). \nMain sponsors are: MLM Skateboards\, Moonshine Skateboards\, Decomposed Skateboards\, SugarFree and Control. \nThe divisions are as follows: \n\nRookies: 1:00 minute\nAmateurs: 1:30 minutes\nProfessionals: 2:00 minutes\nMasters: 2:00 minutes\n\nIn addition\, there will be exciting side competitions including: \n\nBest 360 Spin\nBest Trick\nHighest Hippie Jump\n\nYou can already register at this link: https://mlmskates.com/events-2-1/lax25
URL:https://wfsafreestyle.org/event/la-expo-25/
LOCATION:Best & Bash – Goodyear Arena\, 16 McPherson Dr Napanee\, ON\, K7R 3L1 Canada\, Ontario\, Canada
CATEGORIES:Competition
ATTACH;FMTTYPE=image/jpeg:https://wfsafreestyle.org/wp-content/uploads/2025/03/InShot_20250312_112826990.jpg
END:VEVENT
BEGIN:VEVENT
DTSTART;TZID=Asia/Tokyo:20250727T100000
DTEND;TZID=Asia/Tokyo:20250727T180000
DTSTAMP:20260421T154129
CREATED:20250621T143237Z
LAST-MODIFIED:20250621T143237Z
UID:967-1753610400-1753639200@wfsafreestyle.org
SUMMARY:2025 JFSA FREESTYLE SKATEBOARD CONTEST 3rd Stage
DESCRIPTION:The JFSA 3rd competition has been announced\, taking place in Hamamatsu City\, Shizuoka\, on 27 July (Sun). Participation fee depends on division\, and will cost as follows: \nProfessional class: 5000 yen\nAmateur class: 4000 yen\nBeginner class: 3000 yen \nContest rules and participation standards: \nhttps://jfsa.biz/contestrule.html \nRun times are a bit shorter than the Western standard: \nProfessional & Amateur class: 90 seconds\nBeginner class(for those who compete for the first time): 60 seconds \nNote that beginner divisions will only take place if five or more skaters register in that division. If fewer than that enter\, those skaters will be informed that they have been moved into the amateur division. \nRegistration period: 21 June – 29 June \nRegistration on the day is not possible\, so please finish your registration here https://jfsa.biz/contest-info/20250727hamakita.html during the registration period. You will be asked to send music data for your runs in MP3 format beforehand in the registration form. \nJFSA 4th in Saitama in September will be announced soon. But it will be pro division only. If there is free space for the upcoming JFSA 4th tournament\, higher-ranked competitors from the amateur division will be informed to join. (Those competitors are selected by considering the results of the JFSA 2nd and 3rd competitions)
URL:https://wfsafreestyle.org/event/2025-jfsa-freestyle-skateboard-contest-3rd-stage/
LOCATION:Sun Street HAMAKITA 2F event area\, 2861 Hirakuchi\, Hamakita-ku\, Hamamatsu\, Shizuoka\, 4340041\, Japan
CATEGORIES:Competition
ATTACH;FMTTYPE=image/jpeg:https://wfsafreestyle.org/wp-content/uploads/2025/06/20250611Fly.jpg
END:VEVENT
END:VCALENDAR