BEGIN:VCALENDAR
VERSION:2.0
PRODID:-//WFSA Freestyle - ECPv6.15.17//NONSGML v1.0//EN
CALSCALE:GREGORIAN
METHOD:PUBLISH
X-WR-CALNAME:WFSA Freestyle
X-ORIGINAL-URL:https://wfsafreestyle.org
X-WR-CALDESC:Events for WFSA Freestyle
REFRESH-INTERVAL;VALUE=DURATION:PT1H
X-Robots-Tag:noindex
X-PUBLISHED-TTL:PT1H
BEGIN:VTIMEZONE
TZID:Europe/London
BEGIN:DAYLIGHT
TZOFFSETFROM:+0000
TZOFFSETTO:+0100
TZNAME:BST
DTSTART:20240331T010000
END:DAYLIGHT
BEGIN:STANDARD
TZOFFSETFROM:+0100
TZOFFSETTO:+0000
TZNAME:GMT
DTSTART:20241027T010000
END:STANDARD
BEGIN:DAYLIGHT
TZOFFSETFROM:+0000
TZOFFSETTO:+0100
TZNAME:BST
DTSTART:20250330T010000
END:DAYLIGHT
BEGIN:STANDARD
TZOFFSETFROM:+0100
TZOFFSETTO:+0000
TZNAME:GMT
DTSTART:20251026T010000
END:STANDARD
BEGIN:DAYLIGHT
TZOFFSETFROM:+0000
TZOFFSETTO:+0100
TZNAME:BST
DTSTART:20260329T010000
END:DAYLIGHT
BEGIN:STANDARD
TZOFFSETFROM:+0100
TZOFFSETTO:+0000
TZNAME:GMT
DTSTART:20261025T010000
END:STANDARD
END:VTIMEZONE
BEGIN:VEVENT
DTSTART;VALUE=DATE:20250110
DTEND;VALUE=DATE:20250113
DTSTAMP:20260422T072714
CREATED:20241231T135812Z
LAST-MODIFIED:20250121T021414Z
UID:490-1736467200-1736726399@wfsafreestyle.org
SUMMARY:Kona Classic
DESCRIPTION:The very first Kona Classic in January 2025 brings freestyle skateboarding and slalom skateboarding back to the iconic Kona skatepark in Florida for the first time in decades! \nDetails are surprisingly thin on the ground\, but there is a schedule\, at least: \nFriday Schedule\n12pm – 8pm: Practice and Welcome Session \nSaturday Schedule\n10am – 1pm: Freestyle Competition\n11am – 7pm: Vintage Vendor Village\n1pm – 4pm: Banked Slalom Racing\n4pm – 6pm: Hall of Fame Welcome Party\n6pm – 9pm: Hall of Fame Inductions\n9pm – close: Hall of Fame Afterparty \nSunday Schedule\n10am to 12 noon: Clinics or Raindate for Saturday’s contests \n\nClick here for the contest results
URL:https://wfsafreestyle.org/event/kona-classic/
LOCATION:Kona Skatepark\, 8739 Kona Ave\, Jacksonville\, FL\, 32211\, United States
CATEGORIES:Competition
ATTACH;FMTTYPE=image/jpeg:https://wfsafreestyle.org/wp-content/uploads/2024/12/467514830_10212001834399337_8832728226200612897_n.jpg
END:VEVENT
END:VCALENDAR