BEGIN:VCALENDAR
VERSION:2.0
PRODID:-//WFSA Freestyle - ECPv6.15.17//NONSGML v1.0//EN
CALSCALE:GREGORIAN
METHOD:PUBLISH
X-WR-CALNAME:WFSA Freestyle
X-ORIGINAL-URL:https://wfsafreestyle.org
X-WR-CALDESC:Events for WFSA Freestyle
REFRESH-INTERVAL;VALUE=DURATION:PT1H
X-Robots-Tag:noindex
X-PUBLISHED-TTL:PT1H
BEGIN:VTIMEZONE
TZID:America/Sao_Paulo
BEGIN:STANDARD
TZOFFSETFROM:-0300
TZOFFSETTO:-0300
TZNAME:-03
DTSTART:20240101T000000
END:STANDARD
END:VTIMEZONE
BEGIN:VTIMEZONE
TZID:Europe/London
BEGIN:DAYLIGHT
TZOFFSETFROM:+0000
TZOFFSETTO:+0100
TZNAME:BST
DTSTART:20240331T010000
END:DAYLIGHT
BEGIN:STANDARD
TZOFFSETFROM:+0100
TZOFFSETTO:+0000
TZNAME:GMT
DTSTART:20241027T010000
END:STANDARD
BEGIN:DAYLIGHT
TZOFFSETFROM:+0000
TZOFFSETTO:+0100
TZNAME:BST
DTSTART:20250330T010000
END:DAYLIGHT
BEGIN:STANDARD
TZOFFSETFROM:+0100
TZOFFSETTO:+0000
TZNAME:GMT
DTSTART:20251026T010000
END:STANDARD
BEGIN:DAYLIGHT
TZOFFSETFROM:+0000
TZOFFSETTO:+0100
TZNAME:BST
DTSTART:20260329T010000
END:DAYLIGHT
BEGIN:STANDARD
TZOFFSETFROM:+0100
TZOFFSETTO:+0000
TZNAME:GMT
DTSTART:20261025T010000
END:STANDARD
BEGIN:DAYLIGHT
TZOFFSETFROM:+0000
TZOFFSETTO:+0100
TZNAME:BST
DTSTART:20270328T010000
END:DAYLIGHT
BEGIN:STANDARD
TZOFFSETFROM:+0100
TZOFFSETTO:+0000
TZNAME:GMT
DTSTART:20271031T010000
END:STANDARD
END:VTIMEZONE
BEGIN:VTIMEZONE
TZID:Europe/Bucharest
BEGIN:DAYLIGHT
TZOFFSETFROM:+0200
TZOFFSETTO:+0300
TZNAME:EEST
DTSTART:20240331T010000
END:DAYLIGHT
BEGIN:STANDARD
TZOFFSETFROM:+0300
TZOFFSETTO:+0200
TZNAME:EET
DTSTART:20241027T010000
END:STANDARD
BEGIN:DAYLIGHT
TZOFFSETFROM:+0200
TZOFFSETTO:+0300
TZNAME:EEST
DTSTART:20250330T010000
END:DAYLIGHT
BEGIN:STANDARD
TZOFFSETFROM:+0300
TZOFFSETTO:+0200
TZNAME:EET
DTSTART:20251026T010000
END:STANDARD
BEGIN:DAYLIGHT
TZOFFSETFROM:+0200
TZOFFSETTO:+0300
TZNAME:EEST
DTSTART:20260329T010000
END:DAYLIGHT
BEGIN:STANDARD
TZOFFSETFROM:+0300
TZOFFSETTO:+0200
TZNAME:EET
DTSTART:20261025T010000
END:STANDARD
BEGIN:DAYLIGHT
TZOFFSETFROM:+0200
TZOFFSETTO:+0300
TZNAME:EEST
DTSTART:20270328T010000
END:DAYLIGHT
BEGIN:STANDARD
TZOFFSETFROM:+0300
TZOFFSETTO:+0200
TZNAME:EET
DTSTART:20271031T010000
END:STANDARD
END:VTIMEZONE
BEGIN:VTIMEZONE
TZID:America/Argentina/Buenos_Aires
BEGIN:STANDARD
TZOFFSETFROM:-0300
TZOFFSETTO:-0300
TZNAME:-03
DTSTART:20240101T000000
END:STANDARD
END:VTIMEZONE
BEGIN:VTIMEZONE
TZID:Europe/Berlin
BEGIN:DAYLIGHT
TZOFFSETFROM:+0100
TZOFFSETTO:+0200
TZNAME:CEST
DTSTART:20240331T010000
END:DAYLIGHT
BEGIN:STANDARD
TZOFFSETFROM:+0200
TZOFFSETTO:+0100
TZNAME:CET
DTSTART:20241027T010000
END:STANDARD
BEGIN:DAYLIGHT
TZOFFSETFROM:+0100
TZOFFSETTO:+0200
TZNAME:CEST
DTSTART:20250330T010000
END:DAYLIGHT
BEGIN:STANDARD
TZOFFSETFROM:+0200
TZOFFSETTO:+0100
TZNAME:CET
DTSTART:20251026T010000
END:STANDARD
BEGIN:DAYLIGHT
TZOFFSETFROM:+0100
TZOFFSETTO:+0200
TZNAME:CEST
DTSTART:20260329T010000
END:DAYLIGHT
BEGIN:STANDARD
TZOFFSETFROM:+0200
TZOFFSETTO:+0100
TZNAME:CET
DTSTART:20261025T010000
END:STANDARD
END:VTIMEZONE
BEGIN:VTIMEZONE
TZID:America/New_York
BEGIN:DAYLIGHT
TZOFFSETFROM:-0500
TZOFFSETTO:-0400
TZNAME:EDT
DTSTART:20250309T070000
END:DAYLIGHT
BEGIN:STANDARD
TZOFFSETFROM:-0400
TZOFFSETTO:-0500
TZNAME:EST
DTSTART:20251102T060000
END:STANDARD
BEGIN:DAYLIGHT
TZOFFSETFROM:-0500
TZOFFSETTO:-0400
TZNAME:EDT
DTSTART:20260308T070000
END:DAYLIGHT
BEGIN:STANDARD
TZOFFSETFROM:-0400
TZOFFSETTO:-0500
TZNAME:EST
DTSTART:20261101T060000
END:STANDARD
BEGIN:DAYLIGHT
TZOFFSETFROM:-0500
TZOFFSETTO:-0400
TZNAME:EDT
DTSTART:20270314T070000
END:DAYLIGHT
BEGIN:STANDARD
TZOFFSETFROM:-0400
TZOFFSETTO:-0500
TZNAME:EST
DTSTART:20271107T060000
END:STANDARD
END:VTIMEZONE
BEGIN:VTIMEZONE
TZID:Asia/Tokyo
BEGIN:STANDARD
TZOFFSETFROM:+0900
TZOFFSETTO:+0900
TZNAME:JST
DTSTART:20250101T000000
END:STANDARD
END:VTIMEZONE
BEGIN:VTIMEZONE
TZID:Europe/Rome
BEGIN:DAYLIGHT
TZOFFSETFROM:+0100
TZOFFSETTO:+0200
TZNAME:CEST
DTSTART:20250330T010000
END:DAYLIGHT
BEGIN:STANDARD
TZOFFSETFROM:+0200
TZOFFSETTO:+0100
TZNAME:CET
DTSTART:20251026T010000
END:STANDARD
BEGIN:DAYLIGHT
TZOFFSETFROM:+0100
TZOFFSETTO:+0200
TZNAME:CEST
DTSTART:20260329T010000
END:DAYLIGHT
BEGIN:STANDARD
TZOFFSETFROM:+0200
TZOFFSETTO:+0100
TZNAME:CET
DTSTART:20261025T010000
END:STANDARD
BEGIN:DAYLIGHT
TZOFFSETFROM:+0100
TZOFFSETTO:+0200
TZNAME:CEST
DTSTART:20270328T010000
END:DAYLIGHT
BEGIN:STANDARD
TZOFFSETFROM:+0200
TZOFFSETTO:+0100
TZNAME:CET
DTSTART:20271031T010000
END:STANDARD
END:VTIMEZONE
BEGIN:VEVENT
DTSTART;TZID=America/Sao_Paulo:20250920T100000
DTEND;TZID=America/Sao_Paulo:20250921T170000
DTSTAMP:20260422T020915
CREATED:20250825T222509Z
LAST-MODIFIED:20250825T222509Z
UID:1129-1758362400-1758474000@wfsafreestyle.org
SUMMARY:CBSK Brasil 2025
DESCRIPTION:We invite everyone to participate in the Brazilian Freestyle Skateboarding Championship 2025 in the following categories: \n\nMen’s Beginner\nMen’s Amateur\nMen’s Master\nMen’s Pro Master\nMen’s Professional\nWomen’s Amateur\n\nThe competition will take place during the Virada Esportiva event\, at Arena Seme Urbanos in Parque Ceret (Eleonora Cintra Street\, number 1315\, Gate 5\, Jardim Anália Franco / Tatuapé). Free entry. \n“Hello Skaters! Just a reminder that this event in São Paulo will not only be a championship but also a gathering where we can celebrate the practice of freestyle for so many years in Brazil. The invitation is not only for those who will compete but also for lovers and practitioners of the discipline. Our intention is also to show the world the Brazilian strength of national freestyle. Hugs\, and we hope to see you there.” \n– Rogerio Antigo \n📅 Date: September 20–21\, 2025📍 Location: traditional court next to the swimming pool🕙 Time: 10:00 AM – 5:00 PM \nCBSk (Brazilian Skateboarding Confederation) will announce details and event registration on its website (https://cbsk.com.br).
URL:https://wfsafreestyle.org/event/cbsk-brasil-2025/
LOCATION:Shizuoka
CATEGORIES:Competition
ATTACH;FMTTYPE=image/jpeg:https://wfsafreestyle.org/wp-content/uploads/2025/08/WhatsApp-Image-2025-08-23-at-14.19.59.jpeg
END:VEVENT
BEGIN:VEVENT
DTSTART;TZID=Europe/London:20251003T080000
DTEND;TZID=Europe/London:20251005T180000
DTSTAMP:20260422T020915
CREATED:20251007T002616Z
LAST-MODIFIED:20251007T002616Z
UID:1206-1759478400-1759687200@wfsafreestyle.org
SUMMARY:BIG RIO Brasil 2025
DESCRIPTION:BIG RIO is back in full force!Mark your calendars for October 3–5\, 2025\, as BIG RIO makes its long-awaited return inside the Planet Tattoo Festival in Brasil . After its unexpected cancellation this summer\, the event is coming back stronger than ever and ready to surprise! \nThis is the 8th edition of BIG RIO\, the biggest independent freestyle contest of Brasil\, it had international champions like Günter Mokulys (2015 and 2017) \, Isamu Yamamoto (2016) \, Felix Jonsson (2019) \nThe full program is listed below\, and we can’t wait to see a big crowd joining us for this already iconic skate event in Brazil. \nThe event will take place inside Arena Carioca 1 at the Olympic Center in Barra da Tijuca\, Rio de Janeiro.Registration is free. \nCategories: \n\nMaster\nAmateur\nProfessional\nPro Master\n\nSchedule \n03/10 Friday \n\n2:00 PM – Registration\n2:30–6:00 PM – Free Practice\n\n04/10 Saturday \n\n2:00 PM – Registration\n2:30 PM – Free Practice\n4:00–6:00 PM – Athlete Demos\n\n05/10 Sunday \n\n1:00 PM – Registration\n2:00 PM – Free Practice\n3:00 PM – Warm-up (Amateur / Master / Pro Master / Professional)\n4:00 PM – Competitions\n5:30 PM – Awards Ceremony
URL:https://wfsafreestyle.org/event/big-rio-brasil-2025/
LOCATION:Arena Carioca 1\, Av. Embaixador Abelardo Bueno - Barra Olímpica\, Rio de Janeiro - RJ\, 22775-039\, Brazilia\, Rio de Janeiro\, Brazil
CATEGORIES:Competition
ATTACH;FMTTYPE=image/jpeg:https://wfsafreestyle.org/wp-content/uploads/2025/10/WhatsApp-Image-2025-10-03-at-17.08.10.jpeg
END:VEVENT
BEGIN:VEVENT
DTSTART;TZID=Europe/Bucharest:20251011T090000
DTEND;TZID=Europe/Bucharest:20251011T190000
DTSTAMP:20260422T020915
CREATED:20251007T002112Z
LAST-MODIFIED:20251007T002112Z
UID:1132-1760173200-1760209200@wfsafreestyle.org
SUMMARY:Bucharest Skate Open 2025
DESCRIPTION:I’m excited to invite you to the first competition of 2025 in Romania! \nThe event will take place at Spot Skatepark\, a DIY indoor skatepark in Bucharest\, which means it’s happening no matter the weather. \nTraditionally\, this contest has been focused on street\, but in the last two years the organizer has welcomed freestyle as well. That means we’ll be sharing the day with the street contest\, so time management will be important\, but since it’s a relatively small event\, everything should run smoothly. \nWe’ll have just two categories: PRO and AM. Each rider will get a 1.5-minute run\, as we need to fit both freestyle and street into the same day. \nThe entry fee is €10\, payable on site. The floor is smooth concrete \, slightly slippery\, but it rides fine. The park itself is a bit narrow\, but still long enough to pick up speed for a solid coco wheelie. \nI’m really looking forward to seeing many of you there and sharing a great time together! \n Marius Constantin
URL:https://wfsafreestyle.org/event/bucharest-skate-open-2025/
LOCATION:Spot Skatepark ( indoor )\, Soseaua Berceni\, nr. 8\, Bucharest\, 041914\, Romania
CATEGORIES:Competition
ATTACH;FMTTYPE=image/jpeg:https://wfsafreestyle.org/wp-content/uploads/2025/10/WhatsApp-Image-2025-10-01-at-22.10.25.jpeg
END:VEVENT
BEGIN:VEVENT
DTSTART;TZID=Europe/London:20251107T130000
DTEND;TZID=Europe/London:20251107T180000
DTSTAMP:20260422T020915
CREATED:20251104T214421Z
LAST-MODIFIED:20251105T163845Z
UID:1228-1762520400-1762538400@wfsafreestyle.org
SUMMARY:Belgium Open Freestyle Skateboarding
DESCRIPTION:🇧🇪 Belgium Freestyle Contest is back!\nIt’s been a while since Belgium hosted a freestyle contest\, but the wait is finally over!🗓 Mark your calendars: November 7\, 2025\, in the beautiful city of Anvers! \nThis year’s Belgium Open will feature the following divisions:Women+\, Amateurs\, Pro\, Kids\, and Masters \nThe contest area will be approximately 8 x 30 meters\, with plenty of extra space around for warm-ups and good vibes.As for the riding surface\, expect smooth concrete with just the right amount of grip\, similar to polished skatepark concrete or an underground parking lot floor. Perfect for flowing lines and solid tricks! \nThe rules and judging system will follow the familiar format used in other major contests\, such as Paderborn\, ensuring a fair and fun experience for everyone. \n\n🕒 Event Timetable — 8 November 2025\nOpen Doors & Skate School – from 13:00 \nAmateurs \n\n13:00 – Warm-up (15 min)\n\nRound 1 & Round 2\n\n\nKids \n\n14:30 – Warm-up (15 min)\nRound 1\n\nMasters \n\n16:00 – Warm-up (15 min)\nRound 1 & Round 2\n\nWomen+ \n\n16:30 – Warm-up (15 min)\n\nRound 1 & Round 2\n\n\nPro \n\n17:20 – Warm-up (15 min)\n\nRound 1 & Round 2\n\n\nBest Trick Session – starts around 18:00 (depending on available time) \n\nBring your best tricks\, good energy\, and let’s make freestyle history together in Belgium! 🇧🇪🔥
URL:https://wfsafreestyle.org/event/belgium-open-freestyle-skateboarding/
LOCATION:Buurtsporthal Parkloods Park Spoor Noord\, Damplein 36\, 2060 Antwerpen\, Belgia\, Anvers\, 2060
CATEGORIES:Competition
ATTACH;FMTTYPE=image/png:https://wfsafreestyle.org/wp-content/uploads/2025/11/Captura-de-ecran-din-2025-11-04-la-22.51.50.png
END:VEVENT
BEGIN:VEVENT
DTSTART;TZID=America/Argentina/Buenos_Aires:20251115T090000
DTEND;TZID=America/Argentina/Buenos_Aires:20251116T170000
DTSTAMP:20260422T020915
CREATED:20251105T164319Z
LAST-MODIFIED:20251105T164319Z
UID:1222-1763197200-1763312400@wfsafreestyle.org
SUMMARY:Brazilian Freestyle Championship - Rio de Janeiro Stage CBSK 2025
DESCRIPTION:🇧🇷 2nd Stage – 2025 Brazilian Freestyle Skateboarding Circuit\nThe Brazilian Freestyle Skateboarding scene is back in Rio!For the third time\, the STU (Skate Total Urbe) event will welcome freestyle skateboarders from all over the country on November 15–16\, 2025\, at Praça DuÓ\, Barra da Tijuca\, Rio de Janeiro (RJ)\, Brazil. \nThis competition is part of the official 2025 Brazilian Freestyle Skateboarding Circuit\, contributing to the national ranking.Participation is exclusive to skaters affiliated with the Brazilian Skateboarding Confederation (CBSk). \n📝 RegistrationAll skaters must be properly registered and approved through the official CBSk platform:👉 www.filiados.cbsk.com.br \nIf you already competed in: \n\nthe 2023 or 2024 Brazilian Freestyle Skateboarding Championship\, or\n\nthe “Virada Esportiva” stage in São Paulo (September 20–21\, 2025)\,\n\n\nyou’re already in the system and do not need to register again. \n\n🏆 Divisions\n\nAMATEUR\n\nPRO\n\nMASTERS\n\nMASTERS PRO\n\nWOMEN’S\n\n\n\nGet ready to ride\, connect\, and represent your city — the Brazilian Freestyle Circuit is rolling strong into 2025! 🇧🇷🔥
URL:https://wfsafreestyle.org/event/brazilian-freestyle-championship-rio-de-janeiro-stage-cbsk-2025/
LOCATION:Praça São Perpétuo – Barra da Tijuca\, Rio de Janeiro - RJ\, 22620-280\, Brazilia\, Rio de Janeiro\, Brazil
CATEGORIES:Competition
ATTACH;FMTTYPE=image/jpeg:https://wfsafreestyle.org/wp-content/uploads/2025/10/IMG_1705.jpg
END:VEVENT
BEGIN:VEVENT
DTSTART;TZID=Europe/Berlin:20251213T100000
DTEND;TZID=Europe/Berlin:20251213T190000
DTSTAMP:20260422T020915
CREATED:20251105T164713Z
LAST-MODIFIED:20251105T164713Z
UID:1235-1765620000-1765652400@wfsafreestyle.org
SUMMARY:Open German Freestyle Competition
DESCRIPTION:🇩🇪 Open German Freestyle Competition 2025 – Marl\n📅 Saturday\, December 13\, 2025📍 Sports Hall\, August Döhr School – Marl\, Germany \nFreestyle Skateboarding returns to Marl!For the first time in 40 years\, the German freestyle community will gather again for an open national championship that connects generations — bringing together the legends of the past and the rising stars of today. \nExpect to see some of Europe’s finest freestylers\, all sharing the floor and pushing the limits of creativity\, style\, and flow. \n\n📝 Registration\nFill out the registration form with your name\, music\, and division here:👉 https://tinyurl.com/3sasmdx2 \n\n🏆 Divisions\n\nPro\n\nAmateur\nWomen+\n\nKids\n\nMasters\n\n\nThe Sports Hall of August Döhr School offers excellent conditions\,  a large\, smooth surface ideal for competition\, warm-up\, and training sessions. \nAll participants are welcome to stay overnight directly inside the hall\, making it a true freestyle weekend experience. \nTo make traveling easier\, a pickup service will be available: \n\nFriday (before the event)\n\nSunday & Monday (after the event)Regular trips will run to and from Marl Sinsen and Marl Mitte train stations.\n\n\n\n❤️ Honoring the Roots of German Freestyle\nThis event is not just a contest\, it’s a tribute. \nBack in 1984\, over 40 years ago\, a legendary freestyle competition took place right here in Marl. Those pioneers weren’t superstars\, but visionaries\, skaters who built something new with passion\, curiosity\, and determination. \nNow\, in 2025\, we come together not out of nostalgia\, but to celebrate continuity\, a bridge between generations.We warmly invite all former participants to join us again\, whether as spectators\, guests\, or competitors in the Masters division. \nBecause skateboarding is more than a sport\, it’s a living culture\, a family.A place where generations don’t face each other\, but ride together.Where mutual respect transcends age\, status\, or ability. \nIn times when the world feels divided\, freestyle reminds us what true community means\,  young talents\, old legends\, parents\, children\, beginners\, and champions\, all connected by one board and four wheels. \nWe hope to see many of the original riders return to Marl\,  some of whom are still skating\, competing\, and inspiring others today. \nYou are the proof that skateboarding has no expiration date. \nWe can’t wait to welcome you to Marl for an unforgettable weekend of freestyle\, friendship\, and history in motion. 🛹🔥
URL:https://wfsafreestyle.org/event/open-german-freestyle-competition/
LOCATION:Sports Hall\, August Döhr School\, Max-Planck-Straße 15\, 45768 Marl\, Germania\, Marl\, 45768\, Germany
CATEGORIES:Competition
ATTACH;FMTTYPE=image/png:https://wfsafreestyle.org/wp-content/uploads/2025/11/Captura-de-ecran-din-2025-11-04-la-23.20.33.png
END:VEVENT
BEGIN:VEVENT
DTSTART;VALUE=DATE:20260117
DTEND;VALUE=DATE:20260119
DTSTAMP:20260422T020915
CREATED:20251202T162935Z
LAST-MODIFIED:20251202T162935Z
UID:1260-1768608000-1768780799@wfsafreestyle.org
SUMMARY:Tucson Thunderdome 2026
DESCRIPTION:  \nThe Fourth Annual Tucson Thunderdome King of Freestyle contest hosted by the Tucson freestyle skateboarding scene. This contest is held at Eric Michael Ogden Skate Park in Tucson Arizona which has one of the best competitive surfaces in the country.\nRegistration\nRegistration for the contest is $10 and can be found here as well as additional information regarding the contest. Only competitors must pay for registration\, onlookers or people who wish to skate with everyone and not compete do NOT need to pay a registration fee. \nTimes are subject to change due to weather or other unforeseen circumstances. \n  \nImportant Note!\nThe first day 1/17/26 will be traditional 2 run format and those scores will be the ones that will be used for the world score system\, just like the US Open. This decision was made to help make the world score system more equitable for the riders. The second day 1/18/26 will be a head to head bracket system with the top 4 riders in each division from the previous day. This will not be judged by a panel but rather the crowd. This is intended to not be taken very seriously and just for fun. \n\n\n\n\nSaturday\n1/17/26 \n\n\n\n\n\n\n\n\n9:00 Open Park / Check in \n10:15 Riders Meeting \n10:30 Rookies Warmup \n10:45 Rookies Bracket \n11:45 Amateur Warmup \n12:00 Amateur Bracket \n1:00 Pro Warmup \n1:15 Pro Bracket \n3:00  Winner Announcements \n3:15  Open Park \n6:00 Park “Closes” \n(Bathrooms will be locked up and parking area will be locked up as well) \n\n\n\n\n\n\n\n\n\n\n\n\n\n\n\n\nSunday\n1/18/26 \n\n\n\n\n\n\n\n\n9:00 Open Park \nLargely an experimental day to jam and try new formats and mini contests. \n11:00 Rookie Bracket \n(Judged by the crowd) \n12:00 Amateur Bracket \n(Judged by the crowd) \n1:00 Pro Bracket \n(Judged by the crowd) \n2:00  Open Park \n(Possibly experimental formats but likely just a Jam) \n\n\n6:00 Park “Closes” \n(Bathrooms will be locked up and parking area will be locked up as well) \n\n\n\n\n\n\n\n\n\n\n\nAdditional Information\nLive Stream Links\nWill be streamed on Twitch AND YouTube \nYoutube.com\nTwitch.tv\nTucson Thunderdome can be found on the following Platforms: \nwww.tucsonthunderdome.com \n@Tucson_Thunderdome
URL:https://wfsafreestyle.org/event/tucson-thunderdome-2026/
LOCATION:Shizuoka
CATEGORIES:Competition
ATTACH;FMTTYPE=image/jpeg:https://wfsafreestyle.org/wp-content/uploads/2025/12/THUNDERDOME_AD2026.jpg
ORGANIZER;CN="Holden Bystry":MAILTO:tucsonthunderdome@gmail.com
END:VEVENT
BEGIN:VEVENT
DTSTART;TZID=Europe/London:20260307T090000
DTEND;TZID=Europe/London:20260307T130000
DTSTAMP:20260422T020915
CREATED:20260205T173146Z
LAST-MODIFIED:20260205T173146Z
UID:1320-1772874000-1772888400@wfsafreestyle.org
SUMMARY:Super Secret Freestyle Contest
DESCRIPTION:  \n\n🤫Super Secret Freestyle Contest 🤫\nJoin us for the first USA FSA Secret Freestyle Contest!\nMarch 7th at El Dorado Roller Roller Rink.\n2800 N Studebaker Rd\, Long Beach\, CA 90815\nAll riders are welcome! This is a DIY competition. Our goal is to keep it fun\, skater-focused\, and stress free for everyone involved. \nRegistration\nNot needed\, just show up the day of. \nSchedule\nRookies Division: 9 AM – 11 AM \nAmateur Division: 12 PM- 2PM \nFormat\nRookies will perform 2x 1-minute routines scored on a simplified system. \nDifficulty\, Flow\, and Creativity \n\nAmateurs will perform 2x 1-minutes routines\, scored on the US standard system. \nTechnicality\, Composition\, and Artistry \n  \n 
URL:https://wfsafreestyle.org/event/super-secret-freestyle-contest/
LOCATION:El Dorado Roller Roller Rink\, 2800 N Studebaker Rd\, Long beach\, CA\, 90815\, United States
CATEGORIES:Competition
ATTACH;FMTTYPE=image/jpeg:https://wfsafreestyle.org/wp-content/uploads/2026/02/1037.jpeg
END:VEVENT
BEGIN:VEVENT
DTSTART;TZID=America/New_York:20260307T100000
DTEND;TZID=America/New_York:20260308T130000
DTSTAMP:20260422T020915
CREATED:20260212T113504Z
LAST-MODIFIED:20260211T190431Z
UID:1334-1772877600-1772974800@wfsafreestyle.org
SUMMARY:Kona Classic 2026
DESCRIPTION:The Kona Classic is back for the second year in a row\, and we’re stoked to bring this freestyle skateboarding contest back to one of the most iconic places in skate history. \nPresented by Philly Freestyle and Kona Skate Park\, the event goes down on March 7\, 2026\, at legendary Kona Skatepark in Jacksonville\, Florida. The contest will run from 10:00 AM to 1:00 PM\, so make sure to save the date. \nKona Skatepark isn’t just any skatepark\, it’s the oldest skatepark in the world\, originally opened in 1977\, and it remains a true landmark for skateboarding culture. Hosting a freestyle contest here is all about celebrating the roots of skateboarding while keeping the tradition alive. \nThe contest will feature multiple categories\, including: \n\nAmateur Freestyle\nMasters Freestyle\nPro Freestyle\nSnake Run Slalom\nClassic Slalom\n\nThere will be a prize pool of up to $1\,500\, along with a full day dedicated to freestyle skating\, community\, music\, awards\, and good vibes\, exactly what the Kona Classic is about. \nWhether you’re competing or just coming to watch\, this event is a celebration of freestyle skateboarding\, history\, and community\, set in one of the most legendary skateparks ever built. \nSee you at Kona.
URL:https://wfsafreestyle.org/event/kona-classic-2026/
LOCATION:Kona Skatepark\, 8739 Kona Ave\, Jacksonville\, FL\, 32211\, United States
CATEGORIES:Competition
ATTACH;FMTTYPE=image/png:https://wfsafreestyle.org/wp-content/uploads/2026/02/Captura-de-ecran-din-2026-02-05-la-20.31.18.png
END:VEVENT
BEGIN:VEVENT
DTSTART;TZID=Europe/Bucharest:20260418T100000
DTEND;TZID=Europe/Bucharest:20260418T190000
DTSTAMP:20260422T020915
CREATED:20260211T190047Z
LAST-MODIFIED:20260402T181149Z
UID:1314-1776506400-1776538800@wfsafreestyle.org
SUMMARY:Enjoy The Ride - Freestyle Contest
DESCRIPTION:Hello everyone!Marius here\, and I’m beyond excited to invite you to the first 2026 freestyle skate contest in Romania! \nThe event will take place on April 18–19\, in Insula Mureș\, a village near Arad\, hosted in a private yard that will be fully prepared so you can feel comfortable\, relaxed\, and focused on skating. \nFor the competition\, we’ll build a dedicated freestyle platform made of plywood with proper grip\, measuring 15 meters long and 6.5 meters wide\, designed specifically to offer a smooth and consistent riding surface. \nWhen it comes to accommodation\, we’ve got you covered. Free stay is available\, depending on availability in:  the main house\, a hobbit-style house\, a tree house or the camping area if you prefer bringing a tent\, but we are also in the talks for a house nearby and another one at 25 minutes away so that everyone will stay for free! \nTo keep things simple\, the freestyle contest will have two categories only: Pro ( 2 minute run) and Amateur ( 1.5 minute run ).Even though this is a smaller\, intimate event\, there will be a strong focus on cash prizes for the top 5 Pro riders\,  cash only\, no gear. \nFor the Amateur category\, prizes will consist of skate gear\, awarded from 1st to 5th place\, or even up to 7th place\, depending on our sponsors. \nImportant note\, since the contest is outside\, in case of rain\, we will move it on Sunday. \nWe will have LIVE Streaming at the event on Twitch with multiple camera angles provided by Kay Barabas\, the same person that did the WorldFreestyle and Open Belgium. \nFor now\, we won’t reveal the Pro prize money\, but we promise to announce it soon\,  along with more surprises along the way.Judges will also be compensated\, receiving €50 each. \nAll riders will receive a free warm meal on Saturday and Sunday! \nThe contest will be photographed and filmed by a dedicated crew as well. \nTravel-wise: \n\nIf you’re flying\, we recommend Timișoara Airport ( from here we can help arrange pickup)\, Bucharest airport ( but it’s far away)\, Cluj-Napoca airport ( 4 hours away ) and Budapest airport as well since it’s around 3 hours away.\nIf you’re coming from elsewhere in Europe\, traveling by car is very doable\,  Arad is located in western Romania  and is easy to reach.\n\nOne more thing worth mentioning:On Sunday\, we’ll also host a small mini ramp contest\, so if you’d like to join that as well\, you’re more than welcome to sign up. \nThe freestyle contest entry fee is just €10\, and all the money collected will go straight back to the skaters\, in the form of cash prizes and gear. \nMore details coming very soon.Stay tuned and get ready for something special!
URL:https://wfsafreestyle.org/event/enjoy-the-ride-freestyle-contest/
LOCATION:Enjoy The Ride\, aleea 11\, nr. 64\, Insula Mureș\, Arad\, 310061\, Romania
CATEGORIES:Competition
ATTACH;FMTTYPE=image/jpeg:https://wfsafreestyle.org/wp-content/uploads/2026/02/low-scaled.jpg
END:VEVENT
BEGIN:VEVENT
DTSTART;TZID=Asia/Tokyo:20260502T100000
DTEND;TZID=Asia/Tokyo:20260502T163000
DTSTAMP:20260422T020915
CREATED:20260226T192535Z
LAST-MODIFIED:20260226T192535Z
UID:1361-1777716000-1777739400@wfsafreestyle.org
SUMMARY:Wai Wai Freestyle Contest
DESCRIPTION:The Wai Wai Freestyle Contest in Japan is coming back in 2026! It will take place at the same location as in 2024\, in the city of Hamamatsu\, at Sun Street Hamakita Mall\, on May 2nd. Most likely\, the arena will be the same\, meaning it will be open-air with no roof in case of rain. The surface will certainly be one of the wooden ones\, already well known among Japanese riders. \nThe contest will start at 10:00 AM and end at 4:30 PM. \nThere will be three categories: professionals\, amateurs\, and rookies. \nWe would also like to mention that this contest in Japan is very likely to be the only one in 2026\, as the official JFSA announcement (https://jfsa.biz/news/jfsa2026.html) clearly indicates a break from organizing their own events. Therefore\, this contest\, organized by the M80 skate shop\, is very important for maintaining the continuity of Japanese skate competitions.
URL:https://wfsafreestyle.org/event/wai-wai-freestyle-contest/
LOCATION:Sun Street Hamakita\, 2861 Hiraguchi\, Hamanako Ward\, Hamamatsu City\, Shizuoka Prefecture\, Hamamatsu\, Shizuoka\, 2861\, Japan
CATEGORIES:Competition
ATTACH;FMTTYPE=image/jpeg:https://wfsafreestyle.org/wp-content/uploads/2026/02/4E7B773D-0FE5-4675-AA25-088D0DD090A8.jpg
END:VEVENT
BEGIN:VEVENT
DTSTART;TZID=Europe/Rome:20260530T110000
DTEND;TZID=Europe/Rome:20260530T180000
DTSTAMP:20260422T020915
CREATED:20260213T135755Z
LAST-MODIFIED:20260211T190701Z
UID:1317-1780138800-1780164000@wfsafreestyle.org
SUMMARY:Italian Freestyle Open 2026
DESCRIPTION:The Italian Freestyle Open is going down on May 30\, 2026\, in Nettuno\, Italy\, at the local Nettuno Skatepark (Via Firenze 51\, RM). Please make sure to arrive by 11:00 a.m. so we can keep everything running smoothly. \nThe contest will take place on a dedicated freestyle area measuring 17 x 8.4 meters\, with a smooth surface that offers good grip\, perfect for technical freestyle lines. Each skater will have two runs\, with 110 seconds per run\, and the clock starts the moment you begin skating. A minimum of five riders per division is required. \nWe’ll keep things simple with two main categories:Men’s Mixed Pro / Am and Women’s Mixed Pro / Am. \nThe entry fee is €20\, and prizes will be skateboarding equipment only. \nIf you want to register or need more info\, hit us up on Instagram at @italian_freestyle_open or send an email to pillusnet@outlook.it. \nGood skating\, good vibes\, and freestyle all day\, see you in Nettuno!
URL:https://wfsafreestyle.org/event/italian-freestyle-open-2026/
LOCATION:Nettuno Skatepark\, Via Firenze 51\, Nettuno\, 00048\, Italy
CATEGORIES:Competition,Mixed Pro/Am
ATTACH;FMTTYPE=image/jpeg:https://wfsafreestyle.org/wp-content/uploads/2026/02/WhatsApp-Image-2026-02-05-at-15.16.38.jpeg
END:VEVENT
END:VCALENDAR