BEGIN:VCALENDAR
VERSION:2.0
PRODID:-//WFSA Freestyle - ECPv6.15.17//NONSGML v1.0//EN
CALSCALE:GREGORIAN
METHOD:PUBLISH
X-WR-CALNAME:WFSA Freestyle
X-ORIGINAL-URL:https://wfsafreestyle.org
X-WR-CALDESC:Events for WFSA Freestyle
REFRESH-INTERVAL;VALUE=DURATION:PT1H
X-Robots-Tag:noindex
X-PUBLISHED-TTL:PT1H
BEGIN:VTIMEZONE
TZID:Europe/London
BEGIN:DAYLIGHT
TZOFFSETFROM:+0000
TZOFFSETTO:+0100
TZNAME:BST
DTSTART:20250330T010000
END:DAYLIGHT
BEGIN:STANDARD
TZOFFSETFROM:+0100
TZOFFSETTO:+0000
TZNAME:GMT
DTSTART:20251026T010000
END:STANDARD
BEGIN:DAYLIGHT
TZOFFSETFROM:+0000
TZOFFSETTO:+0100
TZNAME:BST
DTSTART:20260329T010000
END:DAYLIGHT
BEGIN:STANDARD
TZOFFSETFROM:+0100
TZOFFSETTO:+0000
TZNAME:GMT
DTSTART:20261025T010000
END:STANDARD
BEGIN:DAYLIGHT
TZOFFSETFROM:+0000
TZOFFSETTO:+0100
TZNAME:BST
DTSTART:20270328T010000
END:DAYLIGHT
BEGIN:STANDARD
TZOFFSETFROM:+0100
TZOFFSETTO:+0000
TZNAME:GMT
DTSTART:20271031T010000
END:STANDARD
END:VTIMEZONE
BEGIN:VEVENT
DTSTART;VALUE=DATE:20260117
DTEND;VALUE=DATE:20260119
DTSTAMP:20260421T034451
CREATED:20251202T162935Z
LAST-MODIFIED:20251202T162935Z
UID:1260-1768608000-1768780799@wfsafreestyle.org
SUMMARY:Tucson Thunderdome 2026
DESCRIPTION:  \nThe Fourth Annual Tucson Thunderdome King of Freestyle contest hosted by the Tucson freestyle skateboarding scene. This contest is held at Eric Michael Ogden Skate Park in Tucson Arizona which has one of the best competitive surfaces in the country.\nRegistration\nRegistration for the contest is $10 and can be found here as well as additional information regarding the contest. Only competitors must pay for registration\, onlookers or people who wish to skate with everyone and not compete do NOT need to pay a registration fee. \nTimes are subject to change due to weather or other unforeseen circumstances. \n  \nImportant Note!\nThe first day 1/17/26 will be traditional 2 run format and those scores will be the ones that will be used for the world score system\, just like the US Open. This decision was made to help make the world score system more equitable for the riders. The second day 1/18/26 will be a head to head bracket system with the top 4 riders in each division from the previous day. This will not be judged by a panel but rather the crowd. This is intended to not be taken very seriously and just for fun. \n\n\n\n\nSaturday\n1/17/26 \n\n\n\n\n\n\n\n\n9:00 Open Park / Check in \n10:15 Riders Meeting \n10:30 Rookies Warmup \n10:45 Rookies Bracket \n11:45 Amateur Warmup \n12:00 Amateur Bracket \n1:00 Pro Warmup \n1:15 Pro Bracket \n3:00  Winner Announcements \n3:15  Open Park \n6:00 Park “Closes” \n(Bathrooms will be locked up and parking area will be locked up as well) \n\n\n\n\n\n\n\n\n\n\n\n\n\n\n\n\nSunday\n1/18/26 \n\n\n\n\n\n\n\n\n9:00 Open Park \nLargely an experimental day to jam and try new formats and mini contests. \n11:00 Rookie Bracket \n(Judged by the crowd) \n12:00 Amateur Bracket \n(Judged by the crowd) \n1:00 Pro Bracket \n(Judged by the crowd) \n2:00  Open Park \n(Possibly experimental formats but likely just a Jam) \n\n\n6:00 Park “Closes” \n(Bathrooms will be locked up and parking area will be locked up as well) \n\n\n\n\n\n\n\n\n\n\n\nAdditional Information\nLive Stream Links\nWill be streamed on Twitch AND YouTube \nYoutube.com\nTwitch.tv\nTucson Thunderdome can be found on the following Platforms: \nwww.tucsonthunderdome.com \n@Tucson_Thunderdome
URL:https://wfsafreestyle.org/event/tucson-thunderdome-2026/
LOCATION:Shizuoka
CATEGORIES:Competition
ATTACH;FMTTYPE=image/jpeg:https://wfsafreestyle.org/wp-content/uploads/2025/12/THUNDERDOME_AD2026.jpg
ORGANIZER;CN="Holden Bystry":MAILTO:tucsonthunderdome@gmail.com
END:VEVENT
END:VCALENDAR